BEGIN:VCALENDAR
VERSION:2.0
PRODID:spatie/icalendar-generator
NAME:Floretina Icoor
X-WR-CALNAME:Floretina Icoor
BEGIN:VTIMEZONE
TZID:Europe/Rome
BEGIN:DAYLIGHT
DTSTART:20230326T010000
TZOFFSETFROM:+0100
TZOFFSETTO:+0200
END:DAYLIGHT
BEGIN:STANDARD
DTSTART:20231029T030000
TZOFFSETFROM:+0200
TZOFFSETTO:+0100
END:STANDARD
BEGIN:DAYLIGHT
DTSTART:20240331T010000
TZOFFSETFROM:+0100
TZOFFSETTO:+0200
END:DAYLIGHT
END:VTIMEZONE
BEGIN:VTIMEZONE
TZID:UTC
BEGIN:STANDARD
DTSTART:20250723T145131
TZOFFSETFROM:+0000
TZOFFSETTO:+0000
END:STANDARD
END:VTIMEZONE
BEGIN:VEVENT
UID:69e4ebf39b3dd
DTSTAMP:20260419T145131Z
SUMMARY:Panel discussion: preproliferative diabetic retinopathy: systemic f
 actors or treatment modalities are the main issue for the final visual out
 come
DESCRIPTION:Panel discussion: preproliferative diabetic retinopathy: system
 ic factors or treatment modalities are the main issue for the final visual
  outcome
DTSTART;TZID=Europe/Rome:20231201T111800
DTEND;TZID=Europe/Rome:20231201T113000
END:VEVENT
END:VCALENDAR