BEGIN:VCALENDAR
VERSION:2.0
PRODID:spatie/icalendar-generator
NAME:Floretina Icoor
X-WR-CALNAME:Floretina Icoor
BEGIN:VTIMEZONE
TZID:Europe/Rome
BEGIN:DAYLIGHT
DTSTART:20230326T010000
TZOFFSETFROM:+0100
TZOFFSETTO:+0200
END:DAYLIGHT
BEGIN:STANDARD
DTSTART:20231029T030000
TZOFFSETFROM:+0200
TZOFFSETTO:+0100
END:STANDARD
BEGIN:DAYLIGHT
DTSTART:20240331T010000
TZOFFSETFROM:+0100
TZOFFSETTO:+0200
END:DAYLIGHT
END:VTIMEZONE
BEGIN:VTIMEZONE
TZID:UTC
BEGIN:STANDARD
DTSTART:20250723T144155
TZOFFSETFROM:+0000
TZOFFSETTO:+0000
END:STANDARD
END:VTIMEZONE
BEGIN:VEVENT
UID:69e4e9b3b309a
DTSTAMP:20260419T144155Z
SUMMARY:ERGINAY ALI
DESCRIPTION:Photocoagulation laser in addition to conventional anti VEGF th
 erapy in macular edema associated with Telcaps due to diabetic macular ede
 ma or retinal vein occlusion
DTSTART;TZID=Europe/Rome:20231201T114800
DTEND;TZID=Europe/Rome:20231201T115400
END:VEVENT
END:VCALENDAR