BEGIN:VCALENDAR
VERSION:2.0
PRODID:spatie/icalendar-generator
NAME:Floretina Icoor
X-WR-CALNAME:Floretina Icoor
BEGIN:VTIMEZONE
TZID:Europe/Rome
BEGIN:DAYLIGHT
DTSTART:20230326T010000
TZOFFSETFROM:+0100
TZOFFSETTO:+0200
END:DAYLIGHT
BEGIN:STANDARD
DTSTART:20231029T030000
TZOFFSETFROM:+0200
TZOFFSETTO:+0100
END:STANDARD
BEGIN:DAYLIGHT
DTSTART:20240331T010000
TZOFFSETFROM:+0100
TZOFFSETTO:+0200
END:DAYLIGHT
END:VTIMEZONE
BEGIN:VTIMEZONE
TZID:UTC
BEGIN:STANDARD
DTSTART:20250723T144903
TZOFFSETFROM:+0000
TZOFFSETTO:+0000
END:STANDARD
END:VTIMEZONE
BEGIN:VEVENT
UID:69e4eb5f91d12
DTSTAMP:20260419T144903Z
SUMMARY:BOSCIA FRANCESCO\, GRASSI MARIA OLIVA
DESCRIPTION:Liposomal ozonated oil associated with PI 5% ensures a further 
 reduction in the microbial load compared to PI 5% alone before IVT: The 
 “OPERA study”
DTSTART;TZID=Europe/Rome:20231201T152000
DTEND;TZID=Europe/Rome:20231201T152600
END:VEVENT
END:VCALENDAR