BEGIN:VCALENDAR
VERSION:2.0
PRODID:spatie/icalendar-generator
NAME:Floretina Icoor
X-WR-CALNAME:Floretina Icoor
BEGIN:VTIMEZONE
TZID:Europe/Rome
BEGIN:DAYLIGHT
DTSTART:20230326T010000
TZOFFSETFROM:+0100
TZOFFSETTO:+0200
END:DAYLIGHT
BEGIN:STANDARD
DTSTART:20231029T030000
TZOFFSETFROM:+0200
TZOFFSETTO:+0100
END:STANDARD
BEGIN:DAYLIGHT
DTSTART:20240331T010000
TZOFFSETFROM:+0100
TZOFFSETTO:+0200
END:DAYLIGHT
END:VTIMEZONE
BEGIN:VTIMEZONE
TZID:UTC
BEGIN:STANDARD
DTSTART:20250723T145317
TZOFFSETFROM:+0000
TZOFFSETTO:+0000
END:STANDARD
END:VTIMEZONE
BEGIN:VEVENT
UID:69e4ec5d50c26
DTSTAMP:20260419T145317Z
SUMMARY:Cavalieri I Room - \"LIVE SURGERY		\"
DESCRIPTION:\"Moderators: D'AMICO DONALD J.\, ECKARDT CLAUS\, PERTILE GRAZI
 A                                                                 \nModera
 tors from Auditorium: GARCÍA-ARUMÍ JOSÉ\, HASSAN TAREK\, PATELLI FABIO\
 , ROMANO MARIO\, REGILLO CARL D.\, SHAH GAURAV K.\n\nSURGEONS:\n\nItaly (R
 ome): RAPIZZI EMILIO\, MARIOTTI CESARE\, CLAES CARL\, LO GIUDICE GIUSEPPE\
 , MURA MARCO\, MASTROPASQUA RODOLFO\, LORENZI UMBERTO\, TOGNETTO DANIELE\,
  BOSCIA FRANCESCO\n\nBelgium (Leuven): STALMANS PETER\n\nFrance (Marseille
 ): MATONTI FREDERIC\, DEVIN FRANCOIS\n\nTurkey (Bursa): AVCI REMZI\n\nGree
 ce (Athens): GOTZARIDIS STRATOS\, PETROU PETROS\, MISHEV LUKAN\, GIANNOPOU
 LOS THODOROS\, PAROLINI BARBARA\, PAPATHOMAS THOMAS\"
DTSTART;TZID=Europe/Rome:20231201T080000
DTEND;TZID=Europe/Rome:20231201T123000
END:VEVENT
END:VCALENDAR