BEGIN:VCALENDAR
VERSION:2.0
PRODID:spatie/icalendar-generator
NAME:Floretina Icoor
X-WR-CALNAME:Floretina Icoor
BEGIN:VTIMEZONE
TZID:Europe/Rome
BEGIN:DAYLIGHT
DTSTART:20230326T010000
TZOFFSETFROM:+0100
TZOFFSETTO:+0200
END:DAYLIGHT
BEGIN:STANDARD
DTSTART:20231029T030000
TZOFFSETFROM:+0200
TZOFFSETTO:+0100
END:STANDARD
BEGIN:DAYLIGHT
DTSTART:20240331T010000
TZOFFSETFROM:+0100
TZOFFSETTO:+0200
END:DAYLIGHT
END:VTIMEZONE
BEGIN:VTIMEZONE
TZID:UTC
BEGIN:STANDARD
DTSTART:20250723T144931
TZOFFSETFROM:+0000
TZOFFSETTO:+0000
END:STANDARD
END:VTIMEZONE
BEGIN:VEVENT
UID:69e4eb7b4ea45
DTSTAMP:20260419T144931Z
SUMMARY:Cavalieri I Room - AFTERNOON SYMPOSIUM (ZEISS) - How digital workfl
 ow can enhance patient care up to surgical outcomes
DESCRIPTION:Moderators: BOSCIA FRANCESCO\, QUERQUES GIUSEPPE
DTSTART;TZID=Europe/Rome:20231201T164500
DTEND;TZID=Europe/Rome:20231201T173000
END:VEVENT
END:VCALENDAR