BEGIN:VCALENDAR
VERSION:2.0
PRODID:spatie/icalendar-generator
NAME:Floretina Icoor
X-WR-CALNAME:Floretina Icoor
BEGIN:VTIMEZONE
TZID:Europe/Rome
BEGIN:DAYLIGHT
DTSTART:20230326T010000
TZOFFSETFROM:+0100
TZOFFSETTO:+0200
END:DAYLIGHT
BEGIN:STANDARD
DTSTART:20231029T030000
TZOFFSETFROM:+0200
TZOFFSETTO:+0100
END:STANDARD
BEGIN:DAYLIGHT
DTSTART:20240331T010000
TZOFFSETFROM:+0100
TZOFFSETTO:+0200
END:DAYLIGHT
END:VTIMEZONE
BEGIN:VTIMEZONE
TZID:UTC
BEGIN:STANDARD
DTSTART:20250723T145245
TZOFFSETFROM:+0000
TZOFFSETTO:+0000
END:STANDARD
END:VTIMEZONE
BEGIN:VEVENT
UID:69e4ec3df0f59
DTSTAMP:20260419T145245Z
SUMMARY:Ellisse Room - INSTRUCTIONAL COURSE: HIGH QUALITY AND FAST WORK-FLO
 W IN THE MANAGEMENT OF MACULAR DISEASE USING AUTOMATED TOOLS (Organizer: S
 CHMIDT-ERFURTH URSULA)
DESCRIPTION:Organizer: SCHMIDT-ERFURTH URSULA
DTSTART;TZID=Europe/Rome:20231201T123000
DTEND;TZID=Europe/Rome:20231201T133000
END:VEVENT
END:VCALENDAR