BEGIN:VCALENDAR
VERSION:2.0
PRODID:spatie/icalendar-generator
NAME:Floretina Icoor
X-WR-CALNAME:Floretina Icoor
BEGIN:VTIMEZONE
TZID:Europe/Rome
BEGIN:DAYLIGHT
DTSTART:20230326T010000
TZOFFSETFROM:+0100
TZOFFSETTO:+0200
END:DAYLIGHT
BEGIN:STANDARD
DTSTART:20231029T030000
TZOFFSETFROM:+0200
TZOFFSETTO:+0100
END:STANDARD
BEGIN:DAYLIGHT
DTSTART:20240331T010000
TZOFFSETFROM:+0100
TZOFFSETTO:+0200
END:DAYLIGHT
END:VTIMEZONE
BEGIN:VTIMEZONE
TZID:UTC
BEGIN:STANDARD
DTSTART:20250723T144805
TZOFFSETFROM:+0000
TZOFFSETTO:+0000
END:STANDARD
END:VTIMEZONE
BEGIN:VEVENT
UID:69e4eb25ea8bc
DTSTAMP:20260419T144805Z
SUMMARY:Caravaggio Room - SYMPOSIUM BY NATIONAL LOW VISION REHABILITATION C
 ENTRE\, WHO Collaborating Center - \"Title: Vision Rehabilitation - New Fr
 ontiers\" (Organizers: AMORE FILIPPO\, TURCO SIMONA)
DESCRIPTION:Organizers: AMORE FILIPPO\, TURCO SIMONA
DTSTART;TZID=Europe/Rome:20231201T171500
DTEND;TZID=Europe/Rome:20231201T181500
END:VEVENT
END:VCALENDAR