BEGIN:VCALENDAR
VERSION:2.0
PRODID:spatie/icalendar-generator
NAME:Floretina Icoor
X-WR-CALNAME:Floretina Icoor
BEGIN:VTIMEZONE
TZID:Europe/Rome
BEGIN:DAYLIGHT
DTSTART:20230326T010000
TZOFFSETFROM:+0100
TZOFFSETTO:+0200
END:DAYLIGHT
BEGIN:STANDARD
DTSTART:20231029T030000
TZOFFSETFROM:+0200
TZOFFSETTO:+0100
END:STANDARD
BEGIN:DAYLIGHT
DTSTART:20240331T010000
TZOFFSETFROM:+0100
TZOFFSETTO:+0200
END:DAYLIGHT
END:VTIMEZONE
BEGIN:VTIMEZONE
TZID:UTC
BEGIN:STANDARD
DTSTART:20250723T144345
TZOFFSETFROM:+0000
TZOFFSETTO:+0000
END:STANDARD
END:VTIMEZONE
BEGIN:VEVENT
UID:69e4ea213e5d1
DTSTAMP:20260419T144345Z
SUMMARY:LANDINI LUCA
DESCRIPTION:Effects of diabetic retinopathy on anatomical and functional ch
 anges in eyes with AMD‑associated type 1 macular neovascularization afte
 r one year of treatment
DTSTART;TZID=Europe/Rome:20231201T091000
DTEND;TZID=Europe/Rome:20231201T091400
END:VEVENT
END:VCALENDAR