BEGIN:VCALENDAR
VERSION:2.0
PRODID:spatie/icalendar-generator
NAME:Floretina Icoor
X-WR-CALNAME:Floretina Icoor
BEGIN:VTIMEZONE
TZID:Europe/Rome
BEGIN:DAYLIGHT
DTSTART:20230326T010000
TZOFFSETFROM:+0100
TZOFFSETTO:+0200
END:DAYLIGHT
BEGIN:STANDARD
DTSTART:20231029T030000
TZOFFSETFROM:+0200
TZOFFSETTO:+0100
END:STANDARD
BEGIN:DAYLIGHT
DTSTART:20240331T010000
TZOFFSETFROM:+0100
TZOFFSETTO:+0200
END:DAYLIGHT
END:VTIMEZONE
BEGIN:VTIMEZONE
TZID:UTC
BEGIN:STANDARD
DTSTART:20250723T144805
TZOFFSETFROM:+0000
TZOFFSETTO:+0000
END:STANDARD
END:VTIMEZONE
BEGIN:VEVENT
UID:69e4eb257c3e1
DTSTAMP:20260419T144805Z
SUMMARY:NICOLÓ MASSIMO
DESCRIPTION:Real-Life Data in the Treatment of Neovascular AMD: Results fro
 m the Imaculaweb Registry Evaluated in a Single Italian Medical Retina Cen
 ter
DTSTART;TZID=Europe/Rome:20231202T110900
DTEND;TZID=Europe/Rome:20231202T111500
END:VEVENT
END:VCALENDAR