BEGIN:VCALENDAR
VERSION:2.0
PRODID:spatie/icalendar-generator
NAME:Floretina Icoor
X-WR-CALNAME:Floretina Icoor
BEGIN:VTIMEZONE
TZID:Europe/Rome
BEGIN:DAYLIGHT
DTSTART:20230326T010000
TZOFFSETFROM:+0100
TZOFFSETTO:+0200
END:DAYLIGHT
BEGIN:STANDARD
DTSTART:20231029T030000
TZOFFSETFROM:+0200
TZOFFSETTO:+0100
END:STANDARD
BEGIN:DAYLIGHT
DTSTART:20240331T010000
TZOFFSETFROM:+0100
TZOFFSETTO:+0200
END:DAYLIGHT
END:VTIMEZONE
BEGIN:VTIMEZONE
TZID:UTC
BEGIN:STANDARD
DTSTART:20250723T145259
TZOFFSETFROM:+0000
TZOFFSETTO:+0000
END:STANDARD
END:VTIMEZONE
BEGIN:VEVENT
UID:69e4ec4bc299e
DTSTAMP:20260419T145259Z
SUMMARY:ZWEIFEL SANDRINE
DESCRIPTION:Real-World Data (RWD) and Initial Pharmacodynamics of Faricimab
  in Patients with Neovascular Age-Related Macular Degeneration (nAMD).
DTSTART;TZID=Europe/Rome:20231202T113300
DTEND;TZID=Europe/Rome:20231202T113900
END:VEVENT
END:VCALENDAR