BEGIN:VCALENDAR
VERSION:2.0
PRODID:spatie/icalendar-generator
NAME:Floretina Icoor
X-WR-CALNAME:Floretina Icoor
BEGIN:VTIMEZONE
TZID:Europe/Rome
BEGIN:DAYLIGHT
DTSTART:20230326T010000
TZOFFSETFROM:+0100
TZOFFSETTO:+0200
END:DAYLIGHT
BEGIN:STANDARD
DTSTART:20231029T030000
TZOFFSETFROM:+0200
TZOFFSETTO:+0100
END:STANDARD
BEGIN:DAYLIGHT
DTSTART:20240331T010000
TZOFFSETFROM:+0100
TZOFFSETTO:+0200
END:DAYLIGHT
END:VTIMEZONE
BEGIN:VTIMEZONE
TZID:UTC
BEGIN:STANDARD
DTSTART:20250723T145317
TZOFFSETFROM:+0000
TZOFFSETTO:+0000
END:STANDARD
END:VTIMEZONE
BEGIN:VEVENT
UID:69e4ec5d7362f
DTSTAMP:20260419T145317Z
SUMMARY:MOSHFEGHI DARIUS M.
DESCRIPTION:ONWARD Phase 2 Status Update on Oral Anti-Factor D (Danicopan) 
 for Treatment of Geographic Atrophy due to Age Related Macular Degeneratio
 n–Masked Baseline Demographics
DTSTART;TZID=Europe/Rome:20231202T180600
DTEND;TZID=Europe/Rome:20231202T181200
END:VEVENT
END:VCALENDAR