BEGIN:VCALENDAR
VERSION:2.0
PRODID:spatie/icalendar-generator
NAME:Floretina Icoor
X-WR-CALNAME:Floretina Icoor
BEGIN:VTIMEZONE
TZID:Europe/Rome
BEGIN:DAYLIGHT
DTSTART:20230326T010000
TZOFFSETFROM:+0100
TZOFFSETTO:+0200
END:DAYLIGHT
BEGIN:STANDARD
DTSTART:20231029T030000
TZOFFSETFROM:+0200
TZOFFSETTO:+0100
END:STANDARD
BEGIN:DAYLIGHT
DTSTART:20240331T010000
TZOFFSETFROM:+0100
TZOFFSETTO:+0200
END:DAYLIGHT
END:VTIMEZONE
BEGIN:VTIMEZONE
TZID:UTC
BEGIN:STANDARD
DTSTART:20250723T144553
TZOFFSETFROM:+0000
TZOFFSETTO:+0000
END:STANDARD
END:VTIMEZONE
BEGIN:VEVENT
UID:69e4eaa107f44
DTSTAMP:20260419T144553Z
SUMMARY:Cavalieri I Room - RETINAWS - Organizer: REZAEI KOUROUS
DESCRIPTION:\"Organizer: REZAEI KOUROUS\nPanel: BOSCIA FRANCESCO\, CARETTI 
 LUIGI\, FAYYAD FAISAL\, GARCÍA-ARUMÍ JOSÉ\, GOTZARIDIS STRATOS\, KADONO
 SONO KAZUAKI\, PATELLI FABIO\, PERTILE GRAZIA\, RACHITSKAYA ALEKSANDRA\, R
 IZZO STANISLAO\"
DTSTART;TZID=Europe/Rome:20231202T123000
DTEND;TZID=Europe/Rome:20231202T132500
END:VEVENT
END:VCALENDAR