BEGIN:VCALENDAR
VERSION:2.0
PRODID:spatie/icalendar-generator
NAME:Floretina Icoor
X-WR-CALNAME:Floretina Icoor
BEGIN:VTIMEZONE
TZID:Europe/Rome
BEGIN:DAYLIGHT
DTSTART:20230326T010000
TZOFFSETFROM:+0100
TZOFFSETTO:+0200
END:DAYLIGHT
BEGIN:STANDARD
DTSTART:20231029T030000
TZOFFSETFROM:+0200
TZOFFSETTO:+0100
END:STANDARD
BEGIN:DAYLIGHT
DTSTART:20240331T010000
TZOFFSETFROM:+0100
TZOFFSETTO:+0200
END:DAYLIGHT
END:VTIMEZONE
BEGIN:VTIMEZONE
TZID:UTC
BEGIN:STANDARD
DTSTART:20250723T144949
TZOFFSETFROM:+0000
TZOFFSETTO:+0000
END:STANDARD
END:VTIMEZONE
BEGIN:VEVENT
UID:69e4eb8d849ed
DTSTAMP:20260419T144949Z
SUMMARY:STANGA PAULO
DESCRIPTION:New Imaging Technologies for the Assessment of the Peripheral V
 itreoretinal Interface and Retina and Simultaneous Ultra Widefield FFA/ICG
  Angiography with Navigated SS-OCT
DTSTART;TZID=Europe/Rome:20231202T102600
DTEND;TZID=Europe/Rome:20231202T103200
END:VEVENT
END:VCALENDAR