BEGIN:VCALENDAR
VERSION:2.0
PRODID:spatie/icalendar-generator
NAME:Floretina Icoor
X-WR-CALNAME:Floretina Icoor
BEGIN:VTIMEZONE
TZID:Europe/Rome
BEGIN:DAYLIGHT
DTSTART:20230326T010000
TZOFFSETFROM:+0100
TZOFFSETTO:+0200
END:DAYLIGHT
BEGIN:STANDARD
DTSTART:20231029T030000
TZOFFSETFROM:+0200
TZOFFSETTO:+0100
END:STANDARD
BEGIN:DAYLIGHT
DTSTART:20240331T010000
TZOFFSETFROM:+0100
TZOFFSETTO:+0200
END:DAYLIGHT
END:VTIMEZONE
BEGIN:VTIMEZONE
TZID:UTC
BEGIN:STANDARD
DTSTART:20250723T144159
TZOFFSETFROM:+0000
TZOFFSETTO:+0000
END:STANDARD
END:VTIMEZONE
BEGIN:VEVENT
UID:69e4e9b7ceb62
DTSTAMP:20260419T144159Z
SUMMARY:COLOMBO LEONARDO
DESCRIPTION:Dexamethasone implant versus topical carbonic anhydrase inhibit
 ors in patients with bilateral retinitis pigmentosa-related cystoid macula
 r edema – a prospective\, paired-eye pilot study
DTSTART;TZID=Europe/Rome:20231202T103500
DTEND;TZID=Europe/Rome:20231202T103900
END:VEVENT
END:VCALENDAR