BEGIN:VCALENDAR
VERSION:2.0
PRODID:spatie/icalendar-generator
NAME:Floretina Icoor
X-WR-CALNAME:Floretina Icoor
BEGIN:VTIMEZONE
TZID:Europe/Rome
BEGIN:DAYLIGHT
DTSTART:20230326T010000
TZOFFSETFROM:+0100
TZOFFSETTO:+0200
END:DAYLIGHT
BEGIN:STANDARD
DTSTART:20231029T030000
TZOFFSETFROM:+0200
TZOFFSETTO:+0100
END:STANDARD
BEGIN:DAYLIGHT
DTSTART:20240331T010000
TZOFFSETFROM:+0100
TZOFFSETTO:+0200
END:DAYLIGHT
END:VTIMEZONE
BEGIN:VTIMEZONE
TZID:UTC
BEGIN:STANDARD
DTSTART:20250723T145428
TZOFFSETFROM:+0000
TZOFFSETTO:+0000
END:STANDARD
END:VTIMEZONE
BEGIN:VEVENT
UID:69e4eca40ab60
DTSTAMP:20260419T145428Z
SUMMARY:SALADINO ANDREA
DESCRIPTION:New imaging technology for simultaneous multiwavelength ultra w
 idefield (mw-uwf) fundus fluorescein angiography (FFA) and indocyanine gre
 en (ICG) angiography with navigated central and peripheral swept source op
 tical coherence tomography (ss-OCT)
DTSTART;TZID=Europe/Rome:20231202T161600
DTEND;TZID=Europe/Rome:20231202T162000
END:VEVENT
END:VCALENDAR