BEGIN:VCALENDAR
VERSION:2.0
PRODID:spatie/icalendar-generator
NAME:Floretina Icoor
X-WR-CALNAME:Floretina Icoor
BEGIN:VTIMEZONE
TZID:Europe/Rome
BEGIN:DAYLIGHT
DTSTART:20230326T010000
TZOFFSETFROM:+0100
TZOFFSETTO:+0200
END:DAYLIGHT
BEGIN:STANDARD
DTSTART:20231029T030000
TZOFFSETFROM:+0200
TZOFFSETTO:+0100
END:STANDARD
BEGIN:DAYLIGHT
DTSTART:20240331T010000
TZOFFSETFROM:+0100
TZOFFSETTO:+0200
END:DAYLIGHT
END:VTIMEZONE
BEGIN:VTIMEZONE
TZID:UTC
BEGIN:STANDARD
DTSTART:20250723T144903
TZOFFSETFROM:+0000
TZOFFSETTO:+0000
END:STANDARD
END:VTIMEZONE
BEGIN:VEVENT
UID:69e4eb5f7301a
DTSTAMP:20260419T144903Z
SUMMARY:MARCELLETTI EMANUELA
DESCRIPTION:La terapia conservativa e demolitiva nel Retinoblastoma: l'espe
 rienza del reparto oculistico presso l'Ospedale Pediatrico Bambino Gesù d
 i Palidoro
DTSTART;TZID=Europe/Rome:20231203T094200
DTEND;TZID=Europe/Rome:20231203T094900
END:VEVENT
END:VCALENDAR